BEGIN:VCALENDAR
VERSION:2.0
PRODID:-//ChamberMaster//Event Calendar 2.0//EN
METHOD:PUBLISH
X-PUBLISHED-TTL:P3D
REFRESH-INTERVAL:P3D
CALSCALE:GREGORIAN
BEGIN:VEVENT
DTSTART:20160704T163000Z
DTEND:20160704T173000Z
X-MICROSOFT-CDO-ALLDAYEVENT:FALSE
SUMMARY:4th of July Parade
DESCRIPTION:We look forward to seeing you there!\n\nAll entries must be decorated patriotically.
X-ALT-DESC;FMTTYPE=text/html:We look forward to seeing you there!<br />\nAll entries must be decorated patriotically.&nbsp\;
LOCATION:
UID:e.2354.483
SEQUENCE:3
DTSTAMP:20260421T083627Z
URL:http://member.centralpointchamber.org/events/details/4th-of-july-parade-07-04-2016-483
END:VEVENT

END:VCALENDAR
