BEGIN:VCALENDAR
VERSION:2.0
PRODID:-//ChamberMaster//Event Calendar 2.0//EN
METHOD:PUBLISH
X-PUBLISHED-TTL:P3D
REFRESH-INTERVAL:P3D
CALSCALE:GREGORIAN
BEGIN:VEVENT
DTSTART:20260424T180000Z
DTEND:20260425T010000Z
X-MICROSOFT-CDO-ALLDAYEVENT:FALSE
SUMMARY:Arbor Day give-away
DESCRIPTION:Grange Co-op is excited to announce its annual Arbor Day celebration & giveaway for 2026\, offering a giveaway of over 1\,400 free saplings companywide*. The event will take place on Arbor Day - Friday\, April 24th\, beginning at 11 a.m.\, at all Grange Co-op retail locations. These free baby trees are always incredibly popular and tend to be claimed quickly\, so community members are encouraged to join us right at the start of the event. Supplies are limited.\n\n\n\nVisitors to any of the participating Grange Co-op locations will have the opportunity to choose from a variety of popular shade tree saplings suitable for our region's climate\, while supplies last. Available varieties may include Red & Japanese Maple\, Ginkgo\, Eastern Redbud\, and Chinese Dogwood. Not all varieties may be available at all locations\, and availability is subject to change.\n\n\n\n*Limit one per household. While supplies last. \nSee less
X-ALT-DESC;FMTTYPE=text/html:<span class="x193iq5w xeuugli x13faqbe x1vvkbs x1xmvt09 x1lliihq x1s928wv xhkezso x1gmr53x x1cpjm7i x1fgarty x1943h6x xudqn12 x3x7a5m x6prxxf xvq8zen xo1l8bm xzsf02u" dir="auto">Grange Co-op is excited to announce its annual Arbor Day celebration &amp\; giveaway for 2026\, offering a giveaway of over 1\,400 free saplings companywide*. The event will take place on Arbor Day - Friday\, April 24th\, beginning at 11 a.m.\, at all Grange Co-op retail locations. These free baby trees are always incredibly popular and tend to be claimed quickly\, so community members are encouraged to join us right at the start of the event. Supplies are limited.<br class="html-br" />\n<br class="html-br" />\nVisitors to any of the participating Grange Co-op locations will have the opportunity to choose from a variety of popular shade tree saplings suitable for our region&rsquo\;s climate\, while supplies last. Available varieties may include Red &amp\; Japanese Maple\, Ginkgo\, Eastern Redbud\, and Chinese Dogwood. Not all varieties may be available at all locations\, and availability is subject to change.<br class="html-br" />\n<br class="html-br" />\n*Limit one per household. While supplies last. </span>\n<div class="x1i10hfl xjbqb8w x1ejq31n x18oe1m7 x1sy0etr xstzfhl x972fbf x10w94by x1qhh985 x14e42zd x9f619 x1ypdohk xt0psk2 x3ct3a4 xdj266r x14z9mp xat24cr x1lziwak xexx8yu xyri2b x18d9i69 x1c1uobl x16tdsg8 x1hl2dhg xggy1nq x1a2a7pz xkrqix3 x1sur9pj xzsf02u x1s688f" role="button" tabindex="0"><span class="x193iq5w xeuugli x13faqbe x1vvkbs x1xmvt09 x1lliihq x1s928wv xhkezso x1gmr53x x1cpjm7i x1fgarty x1943h6x xudqn12 x3x7a5m x6prxxf xvq8zen xo1l8bm xzsf02u" dir="auto">See less</span></div>\n
LOCATION:All Grange locations
UID:e.2354.10471
SEQUENCE:3
DTSTAMP:20260422T233913Z
URL:http://member.centralpointchamber.org/events/details/arbor-day-give-away-10471
END:VEVENT

END:VCALENDAR
