BEGIN:VCALENDAR
VERSION:2.0
PRODID:-//ChamberMaster//Event Calendar 2.0//EN
METHOD:PUBLISH
X-PUBLISHED-TTL:P3D
REFRESH-INTERVAL:P3D
CALSCALE:GREGORIAN
BEGIN:VEVENT
DTSTART:20160805T230000Z
DTEND:20160807T040000Z
X-MICROSOFT-CDO-ALLDAYEVENT:FALSE
SUMMARY:Barnstormer Vintage Fair
DESCRIPTION:Barnstormer Farm 5th Annual Vintage Fair\n\n\n\n\nBarnstormer Farm 5th Annual Vintage Fair is coming our way\, Friday & Saturday\, August 5th & 6th. If you like funky junk\, antiques\, shabby chic home decor and garden treasures mark your calendar for this fun local event! There will be food\, music\, wine and brew vendors also!
X-ALT-DESC;FMTTYPE=text/html:Barnstormer Farm 5th Annual Vintage Fair\n<div class="clearfix fbPhotoSnowliftAuthorInfo _xlu" style="zoom: 1\; margin-top: 0px\; padding: 16px\; position: relative\; font-family: helvetica\, arial\, sans-serif\; color: rgb(29\, 33\, 41)\; font-size: 12px\; line-height: 16.08px\; background-color: rgb(255\, 255\, 255)\;">\n<div class="clearfix _8u _42ef" style="zoom: 1\; overflow: hidden\; font-family: inherit\;">\n<div class="_6a" style="display: inline-block\; font-family: inherit\;">\n<div class="_6a _6b" style="display: inline-block\; vertical-align: middle\; font-family: inherit\;">\n<div class="fbPhotoContributorName" id="fbPhotoSnowliftAuthorName" style="padding-top: 1px\; padding-bottom: 3px\; display: inline-block\; font-size: 14px\; line-height: 1.38em\; color: rgb(144\, 148\, 156)\; margin-right: 20px\; font-family: inherit\;"><span aria-live="polite" class="fbPhotosPhotoCaption" data-ft="{&quot\;tn&quot\;:&quot\;K&quot\;}" style="outline: none\; display: inline\; width: auto\; font-size: 14px\; line-height: 18px\; font-family: inherit\;" tabindex="0"><a aria-describedby="js_2m" aria-haspopup="true" aria-owns="js_2l" data-hovercard="/ajax/hovercard/page.php?id=444052472280934&amp\;extragetparams=%7B%22directed_target_id%22%3A0%7D" href="https://www.facebook.com/BarnstormerFarm/" style="color: rgb(54\, 88\, 153)\; cursor: pointer\; text-decoration: none\; font-family: inherit\;">Barnstormer Farm</a>&nbsp\;5th Annual Vintage Fair is coming our way\, Friday &amp\; Saturday\, August 5th &amp\; 6th. If you like funky junk\, antiques\, shabby chic home decor and garden treasures mark your calendar for this fun local event! There will be food\, music\, wine and brew vendors also!&nbsp\;</span></div>\n</div>\n</div>\n</div>\n</div>\n
LOCATION:Jackson County Expo 1 Penninger Rd Central Point\, OR
UID:e.2354.819
SEQUENCE:3
DTSTAMP:20260419T124814Z
URL:http://member.centralpointchamber.org/events/details/barnstormer-vintage-fair-08-05-2016-819
END:VEVENT

END:VCALENDAR
