BEGIN:VCALENDAR
VERSION:2.0
PRODID:-//ChamberMaster//Event Calendar 2.0//EN
METHOD:PUBLISH
X-PUBLISHED-TTL:P3D
REFRESH-INTERVAL:P3D
CALSCALE:GREGORIAN
BEGIN:VEVENT
DTSTART:20231125T180000Z
DTEND:20231125T230000Z
X-MICROSOFT-CDO-ALLDAYEVENT:FALSE
SUMMARY:Crater Guard and Band Can Drive
DESCRIPTION:Can and Bottle Drive
X-ALT-DESC;FMTTYPE=text/html:Can and Bottle Drive
LOCATION:Rays Food Place Central Point\, OR
UID:e.2354.9146
SEQUENCE:3
DTSTAMP:20260422T152621Z
URL:http://member.centralpointchamber.org/events/details/crater-guard-and-band-can-drive-9146
END:VEVENT

END:VCALENDAR
