BEGIN:VCALENDAR
VERSION:2.0
PRODID:-//ChamberMaster//Event Calendar 2.0//EN
METHOD:PUBLISH
X-PUBLISHED-TTL:P3D
REFRESH-INTERVAL:P3D
CALSCALE:GREGORIAN
BEGIN:VEVENT
DTSTART:20160719T153000Z
DTEND:20160719T163000Z
X-MICROSOFT-CDO-ALLDAYEVENT:FALSE
SUMMARY:Greeters
DESCRIPTION:Bring a dollar for the basket\, a gift for the raffle\, and a friend to join in the fun. This will be an hour of networking you will enjoy!\n\n\n\nWe will meet at Chaisson park near gate 3!
X-ALT-DESC;FMTTYPE=text/html:<div data-block="true" data-editor="5li4s" data-offset-key="fj55f-0-0" style="font-family: helvetica\, arial\, sans-serif\; color: rgb(29\, 33\, 41)\; font-size: 12px\; line-height: 18px\; white-space: pre-wrap\;">\n<div class="_1mf _1mj" data-offset-key="fj55f-0-0" style="position: relative\; direction: ltr\; font-family: inherit\;"><span style="font-size:14px\;"><span data-offset-key="fj55f-0-0" style="font-family: inherit\;">Bring a dollar for the basket\, a gift for the raffle\, and a friend to join in the fun. This will be an hour of networking you will enjoy!</span></span></div>\n</div>\n\n<div data-block="true" data-editor="5li4s" data-offset-key="56smq-0-0" style="font-family: helvetica\, arial\, sans-serif\; color: rgb(29\, 33\, 41)\; font-size: 12px\; line-height: 18px\; white-space: pre-wrap\;">\n<div class="_1mf _1mj" data-offset-key="56smq-0-0" style="position: relative\; direction: ltr\; font-family: inherit\;"><span style="font-size:14px\;"><span data-offset-key="56smq-0-0" style="font-family: inherit\;">We will meet at Chaisson park near gate 3!</span></span></div>\n</div>\n
LOCATION:The Expo @ Chaisson Park near gate 3 1 Penninger Lane Central Point\, OR 97502
UID:e.2354.276
SEQUENCE:3
DTSTAMP:20260421T085301Z
URL:http://member.centralpointchamber.org/events/details/greeters-07-19-2016-276
END:VEVENT

END:VCALENDAR
