BEGIN:VCALENDAR
VERSION:2.0
PRODID:-//ChamberMaster//Event Calendar 2.0//EN
METHOD:PUBLISH
X-PUBLISHED-TTL:P3D
REFRESH-INTERVAL:P3D
CALSCALE:GREGORIAN
BEGIN:VEVENT
DTSTART;VALUE=DATE:20260419
DTEND;VALUE=DATE:20260426
TRANSP:TRANSPARENT
X-MICROSOFT-CDO-ALLDAYEVENT:TRUE
SUMMARY:JCLS "Taco-bout" it
DESCRIPTION:We're getting ready to celebrate National Library Week next week\, and what better way to celebrate than with food (and books)? \n\n\n\nDuring the week\, show your JCLS library card at any of the 18 local food trucks we've partnered with\, and get 10% off your order. \n\n\n\nNational Library Week is a reminder to refresh yourself on the numerous free resources and events offered at our 15 branches. \n\n\n\nFill your stomach. Feed your mind. Support locally
X-ALT-DESC;FMTTYPE=text/html:<div class="xdj266r x14z9mp xat24cr x1lziwak x1vvkbs x126k92a">\n<div dir="auto" style="text-align: start\;"><span class="x193iq5w xeuugli x13faqbe x1vvkbs x1xmvt09 x1lliihq x1s928wv xhkezso x1gmr53x x1cpjm7i x1fgarty x1943h6x xudqn12 x3x7a5m x6prxxf xvq8zen xo1l8bm xzsf02u x1yc453h" dir="auto">We&#39\;re getting ready to celebrate National Library Week next week\, and what better way to celebrate than with food (and books)? </span></div>\n</div>\n\n<div class="x14z9mp xat24cr x1lziwak x1vvkbs xtlvy1s x126k92a">\n<div dir="auto" style="text-align: start\;"><span class="x193iq5w xeuugli x13faqbe x1vvkbs x1xmvt09 x1lliihq x1s928wv xhkezso x1gmr53x x1cpjm7i x1fgarty x1943h6x xudqn12 x3x7a5m x6prxxf xvq8zen xo1l8bm xzsf02u x1yc453h" dir="auto">During the week\, show your JCLS library card at any of the 18 local food trucks we&#39\;ve partnered with\, and get 10% off your order. </span></div>\n</div>\n\n<div class="x14z9mp xat24cr x1lziwak x1vvkbs xtlvy1s x126k92a">\n<div dir="auto" style="text-align: start\;"><span class="x193iq5w xeuugli x13faqbe x1vvkbs x1xmvt09 x1lliihq x1s928wv xhkezso x1gmr53x x1cpjm7i x1fgarty x1943h6x xudqn12 x3x7a5m x6prxxf xvq8zen xo1l8bm xzsf02u x1yc453h" dir="auto">National Library Week is a reminder to refresh yourself on the numerous free resources and events offered at our 15 branches. </span></div>\n</div>\n\n<div class="x14z9mp xat24cr x1lziwak x1vvkbs xtlvy1s x126k92a">\n<div dir="auto" style="text-align: start\;"><span class="x193iq5w xeuugli x13faqbe x1vvkbs x1xmvt09 x1lliihq x1s928wv xhkezso x1gmr53x x1cpjm7i x1fgarty x1943h6x xudqn12 x3x7a5m x6prxxf xvq8zen xo1l8bm xzsf02u x1yc453h" dir="auto">Fill your stomach. Feed your mind. Support locally</span></div>\n</div>\n
LOCATION:Various taco trucks participating- check graphic
UID:e.2354.10470
SEQUENCE:3
DTSTAMP:20260422T232648Z
URL:http://member.centralpointchamber.org/events/details/jcls-taco-bout-it-10470
END:VEVENT

END:VCALENDAR
